BEGIN:VCALENDAR
VERSION:2.0
PRODID:-//www.affolternimemmental.ch//NONSGML kigkonsult.se iCalcreator 2.2
 2//
CALSCALE:GREGORIAN
METHOD:PUBLISH
X-WR-TIMEZONE:Europe/Berlin
BEGIN:VEVENT
UID:20260421T102927CEST-9825e9UK50@www.affolternimemmental.ch
DTSTAMP:20260421T082927Z
DESCRIPTION:Klicken Sie auf den folgenden Link\, um weitere Informationen z
 ur Veranstaltung zu erhalten:\nhttp://www.affolternimemmental.ch/de/verans
 taltungen/detail/detail.php?i=474
DTSTART:20260323T200000
DTEND:20260323T220000
LOCATION:Bibliothek im Schulhaus Affoltern i.E.
SUMMARY:25. Hauptversammlung Verein Bibliothek und Lesung mit Monika Lüthi
END:VEVENT
END:VCALENDAR
