BEGIN:VCALENDAR
VERSION:2.0
PRODID:-//www.affolternimemmental.ch//NONSGML kigkonsult.se iCalcreator 2.2
 2//
CALSCALE:GREGORIAN
METHOD:PUBLISH
X-WR-TIMEZONE:Europe/Berlin
BEGIN:VEVENT
UID:20260421T103602CEST-6630VZcApn@www.affolternimemmental.ch
DTSTAMP:20260421T083602Z
DESCRIPTION:Klicken Sie auf den folgenden Link\, um weitere Informationen z
 ur Veranstaltung zu erhalten:\nhttp://www.affolternimemmental.ch/de/verans
 taltungen/detail/detail.php?i=466
DTSTART:20260313T200000
DTEND:20260313T220000
LOCATION:Restaurant Tannenbad
SUMMARY:Hauptversammlung Werktagsschützen Schweikhof
END:VEVENT
END:VCALENDAR
